BEGIN:VCALENDAR
VERSION:2.0
PRODID:-//Squarespace Inc/Squarespace 6//v6//EN
BEGIN:VEVENT
UID:5e421d7dff5d0d4b946a4296@squarespace.com
DTSTAMP:20200403T024056Z
DTSTART:20200331T230000Z
DTEND:20200430T060000Z
SUMMARY:Monthly Draw
GEO:43.048891;-89.507778
LOCATION:Encore Living Trafalgar\, 2 FLAGSHIP DR\, TRAFALGAR\, Australia
END:VEVENT
END:VCALENDAR
