BEGIN:VCALENDAR
VERSION:2.0
PRODID:-//Squarespace Inc/Squarespace 6//v6//EN
BEGIN:VEVENT
UID:5e38d61bdd96790c98f3acaf@squarespace.com
DTSTAMP:20200224T000857Z
DTSTART:20200312T000000Z
DTEND:20200312T030000Z
SUMMARY:Open Day
GEO:-38.2;146.15
LOCATION:Encore Living Trafalgar\, 2 Flagship Drive\, Trafalgar\, VIC 3824\
 , Australia
END:VEVENT
END:VCALENDAR
